BEGIN:VCALENDAR
VERSION:2.0
PRODID:icalendar-ruby
CALSCALE:GREGORIAN
METHOD:PUBLISH
BEGIN:VEVENT
DTSTAMP:20260423T153810Z
UID:20-1114843@mindenpresbyterian.tithelysetup5.com
DTSTART:20260920T154500Z
DTEND:20260920T164500Z
CLASS:PUBLIC
CREATED:20260423T095050
DESCRIPTION:
LAST-MODIFIED:20260423T095050
LOCATION:Minden Presbyterian Church
SUMMARY:Sunday Worship
URL;VALUE=URI:https://www.minden-epc.org/events/sunday-worship/2026-09-20
ATTACH;FILENAME=church-interior-cross.jpg;FMTTYPE=image/jpeg:https://dq5pwp
 g1q8ru0.cloudfront.net/2023/09/07/09/00/22/357eaa44-8753-4ae1-91c4-a8eea59
 04e9f/church-interior-cross.jpg
END:VEVENT
END:VCALENDAR
