BEGIN:VCALENDAR
VERSION:2.0
PRODID:icalendar-ruby
CALSCALE:GREGORIAN
METHOD:PUBLISH
BEGIN:VEVENT
DTSTAMP:20260420T140741Z
UID:8-1098851@mindenpresbyterian.tithelysetup5.com
DTSTART:20261101T153000Z
DTEND:20261101T163000Z
CLASS:PUBLIC
CREATED:20260420T064316
DESCRIPTION:
LAST-MODIFIED:20260420T064316
LOCATION:Minden Presbyterian Church
SUMMARY:Sunday School
URL;VALUE=URI:https://www.minden-epc.org/events/sunday-school/2026-11-01
END:VEVENT
END:VCALENDAR
