BEGIN:VCALENDAR
VERSION:2.0
PRODID:icalendar-ruby
CALSCALE:GREGORIAN
METHOD:PUBLISH
BEGIN:VEVENT
DTSTAMP:20260420T092557Z
UID:8-1098024@mindenpresbyterian.tithelysetup5.com
DTSTART:20261011T143000Z
DTEND:20261011T153000Z
CLASS:PUBLIC
CREATED:20260420T015155
DESCRIPTION:
LAST-MODIFIED:20260420T015155
LOCATION:Minden Presbyterian Church
SUMMARY:Sunday School
URL;VALUE=URI:https://www.minden-epc.org/events/sunday-school/2026-10-11
END:VEVENT
END:VCALENDAR
