BEGIN:VCALENDAR
VERSION:2.0
PRODID:icalendar-ruby
CALSCALE:GREGORIAN
METHOD:PUBLISH
BEGIN:VEVENT
DTSTAMP:20260420T075759Z
UID:8-1098023@mindenpresbyterian.tithelysetup5.com
DTSTART:20261004T143000Z
DTEND:20261004T153000Z
CLASS:PUBLIC
CREATED:20260420T015155
DESCRIPTION:
LAST-MODIFIED:20260420T015155
LOCATION:Minden Presbyterian Church
SUMMARY:Sunday School
URL;VALUE=URI:https://www.minden-epc.org/events/sunday-school/2026-10-04
END:VEVENT
END:VCALENDAR
