BEGIN:VCALENDAR
VERSION:2.0
PRODID:icalendar-ruby
CALSCALE:GREGORIAN
METHOD:PUBLISH
BEGIN:VEVENT
DTSTAMP:20260420T043336Z
UID:8-1097197@mindenpresbyterian.tithelysetup5.com
DTSTART:20260920T143000Z
DTEND:20260920T153000Z
CLASS:PUBLIC
CREATED:20260419T221459
DESCRIPTION:
LAST-MODIFIED:20260419T221459
LOCATION:Minden Presbyterian Church
SUMMARY:Sunday School
URL;VALUE=URI:https://www.minden-epc.org/events/sunday-school/2026-09-20
END:VEVENT
END:VCALENDAR
